BEGIN:VCALENDAR
VERSION:2.0
PRODID:-//Shri Guru Ravidass Bhawan - ECPv6.0.13//NONSGML v1.0//EN
CALSCALE:GREGORIAN
METHOD:PUBLISH
X-ORIGINAL-URL:https://shrigururavidassbhawan.com
X-WR-CALDESC:Events for Shri Guru Ravidass Bhawan
REFRESH-INTERVAL;VALUE=DURATION:PT1H
X-Robots-Tag:noindex
X-PUBLISHED-TTL:PT1H
BEGIN:VTIMEZONE
TZID:UTC
BEGIN:STANDARD
TZOFFSETFROM:+0000
TZOFFSETTO:+0000
TZNAME:UTC
DTSTART:20230101T000000
END:STANDARD
END:VTIMEZONE
BEGIN:VEVENT
DTSTART;TZID=UTC:20230122T110000
DTEND;TZID=UTC:20230122T120000
DTSTAMP:20260423T022014
CREATED:20200504T181127Z
LAST-MODIFIED:20230210T102716Z
UID:1741-1674385200-1674388800@shrigururavidassbhawan.com
SUMMARY:Birthday Celebration of Shri Guru Gobind Singh ji
DESCRIPTION:
URL:https://shrigururavidassbhawan.com/event/birthday-celebration-of-shri-guru-gobind-singh-ji/
CATEGORIES:Kirtan
ATTACH;FMTTYPE=image/jpeg:https://shrigururavidassbhawan.com/wp-content/uploads/2020/05/WhatsApp-Image-2023-01-11-at-5.34.43-PM.jpeg
END:VEVENT
END:VCALENDAR