BEGIN:VCALENDAR
VERSION:2.0
PRODID:-//Shri Guru Ravidass Bhawan - ECPv6.0.13//NONSGML v1.0//EN
CALSCALE:GREGORIAN
METHOD:PUBLISH
X-ORIGINAL-URL:https://shrigururavidassbhawan.com
X-WR-CALDESC:Events for Shri Guru Ravidass Bhawan
REFRESH-INTERVAL;VALUE=DURATION:PT1H
X-Robots-Tag:noindex
X-PUBLISHED-TTL:PT1H
BEGIN:VTIMEZONE
TZID:UTC
BEGIN:STANDARD
TZOFFSETFROM:+0000
TZOFFSETTO:+0000
TZNAME:UTC
DTSTART:20230101T000000
END:STANDARD
END:VTIMEZONE
BEGIN:VEVENT
DTSTART;TZID=UTC:20230212T100000
DTEND;TZID=UTC:20230212T133000
DTSTAMP:20260422T214614
CREATED:20230210T061437Z
LAST-MODIFIED:20230210T102605Z
UID:21602-1676196000-1676208600@shrigururavidassbhawan.com
SUMMARY:646th Prakash Utsav - Shri Guru Ravidass Maharaj ji
DESCRIPTION:
URL:https://shrigururavidassbhawan.com/event/646th-prakash-utsav-shri-guru-ravidass-maharaj-ji/
CATEGORIES:Kirtan
ATTACH;FMTTYPE=image/jpeg:https://shrigururavidassbhawan.com/wp-content/uploads/2023/02/kirtan-3-1-scaled.jpg
END:VEVENT
BEGIN:VEVENT
DTSTART;TZID=UTC:20230421T110000
DTEND;TZID=UTC:20230423T120000
DTSTAMP:20260422T214614
CREATED:20230322T130453Z
LAST-MODIFIED:20230322T130506Z
UID:22126-1682074800-1682251200@shrigururavidassbhawan.com
SUMMARY:Vaisakhi Celebrations
DESCRIPTION:
URL:https://shrigururavidassbhawan.com/event/vaisakhi-celebrations/
CATEGORIES:Kirtan
ATTACH;FMTTYPE=image/jpeg:https://shrigururavidassbhawan.com/wp-content/uploads/2023/03/vaisakhi2023-scaled.jpg
END:VEVENT
BEGIN:VEVENT
DTSTART;TZID=UTC:20230623T110000
DTEND;TZID=UTC:20230625T120000
DTSTAMP:20260422T214614
CREATED:20230609T115220Z
LAST-MODIFIED:20230609T115220Z
UID:22165-1687518000-1687694400@shrigururavidassbhawan.com
SUMMARY:Shri Guru Arjan Dev ji Saheedi Diwas
DESCRIPTION:
URL:https://shrigururavidassbhawan.com/event/shri-guru-arjan-dev-ji-saheedi-diwas/
CATEGORIES:Kirtan
ATTACH;FMTTYPE=image/jpeg:https://shrigururavidassbhawan.com/wp-content/uploads/2023/06/kirtan-1.jpg
END:VEVENT
END:VCALENDAR